BEGIN:VCALENDAR
VERSION:2.0
PRODID:-//MMoME - ECPv6.15.18//NONSGML v1.0//EN
CALSCALE:GREGORIAN
METHOD:PUBLISH
X-ORIGINAL-URL:https://www.mmome.org
X-WR-CALDESC:Events for MMoME
REFRESH-INTERVAL;VALUE=DURATION:PT1H
X-Robots-Tag:noindex
X-PUBLISHED-TTL:PT1H
BEGIN:VTIMEZONE
TZID:America/New_York
BEGIN:DAYLIGHT
TZOFFSETFROM:-0500
TZOFFSETTO:-0400
TZNAME:EDT
DTSTART:20210314T070000
END:DAYLIGHT
BEGIN:STANDARD
TZOFFSETFROM:-0400
TZOFFSETTO:-0500
TZNAME:EST
DTSTART:20211107T060000
END:STANDARD
BEGIN:DAYLIGHT
TZOFFSETFROM:-0500
TZOFFSETTO:-0400
TZNAME:EDT
DTSTART:20220313T070000
END:DAYLIGHT
BEGIN:STANDARD
TZOFFSETFROM:-0400
TZOFFSETTO:-0500
TZNAME:EST
DTSTART:20221106T060000
END:STANDARD
BEGIN:DAYLIGHT
TZOFFSETFROM:-0500
TZOFFSETTO:-0400
TZNAME:EDT
DTSTART:20230312T070000
END:DAYLIGHT
BEGIN:STANDARD
TZOFFSETFROM:-0400
TZOFFSETTO:-0500
TZNAME:EST
DTSTART:20231105T060000
END:STANDARD
END:VTIMEZONE
BEGIN:VEVENT
DTSTART;TZID=America/New_York:20220702T100000
DTEND;TZID=America/New_York:20220702T110000
DTSTAMP:20260419T203447
CREATED:20220524T184818Z
LAST-MODIFIED:20220524T184818Z
UID:4665-1656756000-1656759600@www.mmome.org
SUMMARY:A Seal's Journey at Skidompha Public Library
DESCRIPTION:For All Ages \nJoin us as we take you through a seal’s journey – from stranding to release and all of the obstacles in between. \nMore information at http://www.skidompha.org/event/marine-mammals-of-maine-a-seals-journey/
URL:https://www.mmome.org/event/a-seals-journey-at-skidompha-public-library/
LOCATION:Skidompha Library\, 184 Main St\, Damariscotta\, ME\, United States
CATEGORIES:Community
END:VEVENT
END:VCALENDAR