BEGIN:VCALENDAR
VERSION:2.0
PRODID:-//MMoME - ECPv6.15.18//NONSGML v1.0//EN
CALSCALE:GREGORIAN
METHOD:PUBLISH
X-ORIGINAL-URL:https://www.mmome.org
X-WR-CALDESC:Events for MMoME
REFRESH-INTERVAL;VALUE=DURATION:PT1H
X-Robots-Tag:noindex
X-PUBLISHED-TTL:PT1H
BEGIN:VTIMEZONE
TZID:America/New_York
BEGIN:DAYLIGHT
TZOFFSETFROM:-0500
TZOFFSETTO:-0400
TZNAME:EDT
DTSTART:20210314T070000
END:DAYLIGHT
BEGIN:STANDARD
TZOFFSETFROM:-0400
TZOFFSETTO:-0500
TZNAME:EST
DTSTART:20211107T060000
END:STANDARD
BEGIN:DAYLIGHT
TZOFFSETFROM:-0500
TZOFFSETTO:-0400
TZNAME:EDT
DTSTART:20220313T070000
END:DAYLIGHT
BEGIN:STANDARD
TZOFFSETFROM:-0400
TZOFFSETTO:-0500
TZNAME:EST
DTSTART:20221106T060000
END:STANDARD
BEGIN:DAYLIGHT
TZOFFSETFROM:-0500
TZOFFSETTO:-0400
TZNAME:EDT
DTSTART:20230312T070000
END:DAYLIGHT
BEGIN:STANDARD
TZOFFSETFROM:-0400
TZOFFSETTO:-0500
TZNAME:EST
DTSTART:20231105T060000
END:STANDARD
END:VTIMEZONE
BEGIN:VEVENT
DTSTART;TZID=America/New_York:20221210T100000
DTEND;TZID=America/New_York:20221210T120000
DTSTAMP:20260419T203442
CREATED:20220511T152422Z
LAST-MODIFIED:20220511T152422Z
UID:4628-1670666400-1670673600@www.mmome.org
SUMMARY:Volunteer Information Session December 2022
DESCRIPTION:There are a few different ways to get involved with MMoME’s work! Opportunities range from the critical roles of assisting with development\, fundraising\, outreach\, education\, stranding response\, and more. All prospective volunteers are required to attend an informational session to familiarize you with the organization\, and to help you\, and MMoME\, identify if you’re a good fit for the volunteer roles currently available. The info sessions also offer an opportunity for individuals to meet some of MMoME’s staff and volunteers. \nFill out the below volunteer interest form to receive information regarding the next info session. \nVolunteer Interest Form
URL:https://www.mmome.org/event/volunteer-information-session-december-2022/
LOCATION:ME
CATEGORIES:Volunteer
END:VEVENT
END:VCALENDAR