BEGIN:VCALENDAR
VERSION:2.0
PRODID:-//MMoME - ECPv6.15.18//NONSGML v1.0//EN
CALSCALE:GREGORIAN
METHOD:PUBLISH
X-ORIGINAL-URL:https://www.mmome.org
X-WR-CALDESC:Events for MMoME
REFRESH-INTERVAL;VALUE=DURATION:PT1H
X-Robots-Tag:noindex
X-PUBLISHED-TTL:PT1H
BEGIN:VTIMEZONE
TZID:America/New_York
BEGIN:DAYLIGHT
TZOFFSETFROM:-0500
TZOFFSETTO:-0400
TZNAME:EDT
DTSTART:20220313T070000
END:DAYLIGHT
BEGIN:STANDARD
TZOFFSETFROM:-0400
TZOFFSETTO:-0500
TZNAME:EST
DTSTART:20221106T060000
END:STANDARD
BEGIN:DAYLIGHT
TZOFFSETFROM:-0500
TZOFFSETTO:-0400
TZNAME:EDT
DTSTART:20230312T070000
END:DAYLIGHT
BEGIN:STANDARD
TZOFFSETFROM:-0400
TZOFFSETTO:-0500
TZNAME:EST
DTSTART:20231105T060000
END:STANDARD
BEGIN:DAYLIGHT
TZOFFSETFROM:-0500
TZOFFSETTO:-0400
TZNAME:EDT
DTSTART:20240310T070000
END:DAYLIGHT
BEGIN:STANDARD
TZOFFSETFROM:-0400
TZOFFSETTO:-0500
TZNAME:EST
DTSTART:20241103T060000
END:STANDARD
END:VTIMEZONE
BEGIN:VEVENT
DTSTART;VALUE=DATE:20230601
DTEND;VALUE=DATE:20230701
DTSTAMP:20260423T213601
CREATED:20220824T195408Z
LAST-MODIFIED:20230614T175749Z
UID:4888-1685577600-1688169599@www.mmome.org
SUMMARY:Rivalries Drink Give Back
DESCRIPTION:Rivalries’ Sports Pub and Restaurant creates a “charitable cocktail” each month to support local nonprofits. For the month of June\, Rivalries will be serving a spicy orange margarita to support and promote Marine Mammals of Maine! $1 from each drink sold will be donated to Marine Mammals of Maine.  \n 
URL:https://www.mmome.org/event/rivalries-drink-give-back/
LOCATION:Rivalries\, 2 Hat Trick Drive\, Falmouth\, ME\, 04105
ATTACH;FMTTYPE=image/png:https://www.mmome.org/wp-content/uploads/2022/08/Screen-Shot-2023-06-14-at-1.55.14-PM.png
END:VEVENT
BEGIN:VEVENT
DTSTART;TZID=America/New_York:20230627T183000
DTEND;TZID=America/New_York:20230627T193000
DTSTAMP:20260423T213601
CREATED:20230414T150349Z
LAST-MODIFIED:20230414T150349Z
UID:5129-1687890600-1687894200@www.mmome.org
SUMMARY:Turtle Tracks at the Dyer Library
DESCRIPTION:The waters off the coast of Maine are rich in diversity of marine life. This includes sea turtles. Join MMoME to gain a basic understanding of sea turtle biology\, ecology\, conservation\, and the threats that sea turtles face in Maine and globally. We’ll discuss the concept of One Health in regards to the ocean\, and how sea turtles are connected to the work we do with marine mammals.
URL:https://www.mmome.org/event/turtle-tracks-at-the-dyer-library/
LOCATION:Dyer Library\, 371 Main St.\, Saco\, 04072
CATEGORIES:Community
END:VEVENT
END:VCALENDAR