BEGIN:VCALENDAR
VERSION:2.0
PRODID:-//MMoME - ECPv6.15.18//NONSGML v1.0//EN
CALSCALE:GREGORIAN
METHOD:PUBLISH
X-WR-CALNAME:MMoME
X-ORIGINAL-URL:https://www.mmome.org
X-WR-CALDESC:Events for MMoME
REFRESH-INTERVAL;VALUE=DURATION:PT1H
X-Robots-Tag:noindex
X-PUBLISHED-TTL:PT1H
BEGIN:VTIMEZONE
TZID:America/New_York
BEGIN:DAYLIGHT
TZOFFSETFROM:-0500
TZOFFSETTO:-0400
TZNAME:EDT
DTSTART:20220313T070000
END:DAYLIGHT
BEGIN:STANDARD
TZOFFSETFROM:-0400
TZOFFSETTO:-0500
TZNAME:EST
DTSTART:20221106T060000
END:STANDARD
BEGIN:DAYLIGHT
TZOFFSETFROM:-0500
TZOFFSETTO:-0400
TZNAME:EDT
DTSTART:20230312T070000
END:DAYLIGHT
BEGIN:STANDARD
TZOFFSETFROM:-0400
TZOFFSETTO:-0500
TZNAME:EST
DTSTART:20231105T060000
END:STANDARD
BEGIN:DAYLIGHT
TZOFFSETFROM:-0500
TZOFFSETTO:-0400
TZNAME:EDT
DTSTART:20240310T070000
END:DAYLIGHT
BEGIN:STANDARD
TZOFFSETFROM:-0400
TZOFFSETTO:-0500
TZNAME:EST
DTSTART:20241103T060000
END:STANDARD
END:VTIMEZONE
BEGIN:VEVENT
DTSTART;TZID=America/New_York:20230916T103000
DTEND;TZID=America/New_York:20230916T113000
DTSTAMP:20260423T175753
CREATED:20220524T175817Z
LAST-MODIFIED:20230403T193627Z
UID:4653-1694860200-1694863800@www.mmome.org
SUMMARY:Marine Life Off the Coast of Maine at D.A. Hurd Library
DESCRIPTION:The coast of Maine is rich in ocean life. Our coastal systems nourish our lives\, have great economic value\, and make our state a unique place to live and play. Marine mammals can shed light on the greater health of this important and rapidly changing ecosystem. Join MMoME as we explore marine life in the Gulf of Maine. Learn about how the work of Marine Mammals of Maine is part of a larger picture reading indicators of change in our waters\, and what the impact of these changes could be. Join MMoME as we explore marine life in the Gulf of Maine. \nMore Information
URL:https://www.mmome.org/event/marine-life-da-hurd-library/
LOCATION:D.A. Hurd Library\, 41 High Street\, North Berwick\, ME\, United States
CATEGORIES:Community
END:VEVENT
END:VCALENDAR