BEGIN:VCALENDAR
VERSION:2.0
PRODID:-//MMoME - ECPv6.15.18//NONSGML v1.0//EN
CALSCALE:GREGORIAN
METHOD:PUBLISH
X-ORIGINAL-URL:https://www.mmome.org
X-WR-CALDESC:Events for MMoME
REFRESH-INTERVAL;VALUE=DURATION:PT1H
X-Robots-Tag:noindex
X-PUBLISHED-TTL:PT1H
BEGIN:VTIMEZONE
TZID:America/New_York
BEGIN:DAYLIGHT
TZOFFSETFROM:-0500
TZOFFSETTO:-0400
TZNAME:EDT
DTSTART:20210314T070000
END:DAYLIGHT
BEGIN:STANDARD
TZOFFSETFROM:-0400
TZOFFSETTO:-0500
TZNAME:EST
DTSTART:20211107T060000
END:STANDARD
BEGIN:DAYLIGHT
TZOFFSETFROM:-0500
TZOFFSETTO:-0400
TZNAME:EDT
DTSTART:20220313T070000
END:DAYLIGHT
BEGIN:STANDARD
TZOFFSETFROM:-0400
TZOFFSETTO:-0500
TZNAME:EST
DTSTART:20221106T060000
END:STANDARD
BEGIN:DAYLIGHT
TZOFFSETFROM:-0500
TZOFFSETTO:-0400
TZNAME:EDT
DTSTART:20230312T070000
END:DAYLIGHT
BEGIN:STANDARD
TZOFFSETFROM:-0400
TZOFFSETTO:-0500
TZNAME:EST
DTSTART:20231105T060000
END:STANDARD
END:VTIMEZONE
BEGIN:VEVENT
DTSTART;TZID=America/New_York:20220604T100000
DTEND;TZID=America/New_York:20220604T140000
DTSTAMP:20260419T170631
CREATED:20220513T122848Z
LAST-MODIFIED:20220513T123132Z
UID:4630-1654336800-1654351200@www.mmome.org
SUMMARY:Saco Bark in the Park
DESCRIPTION:Stop by the MMoME table at “A K9 Celebration” at the Saco Dog Park. The day will be filled with pet themed vendors\, non profits\, activities for your 4 legged friends (and also some for your 2 legged ones) and raffles!
URL:https://www.mmome.org/event/saco-bark-in-the-park-2022/
LOCATION:Saco Dog Park\, 60 School St\, Saco\, ME\, 04072\, United States
CATEGORIES:Community
END:VEVENT
BEGIN:VEVENT
DTSTART;TZID=America/New_York:20220621T183000
DTEND;TZID=America/New_York:20220621T193000
DTSTAMP:20260419T170631
CREATED:20220524T181047Z
LAST-MODIFIED:20220524T181047Z
UID:4656-1655836200-1655839800@www.mmome.org
SUMMARY:Liberty Library Kickoff for Summer Reading
DESCRIPTION:Join MMOME for a presentation on whales as we join the Liberty Library for their kickoff for Summer Reading. Learn all about whales and some of the other animals we encounter. \nThis event will be hosted on Zoom. Join from anywhere! \nLearn More.
URL:https://www.mmome.org/event/liberty-library-kickoff-for-summer-reading/
LOCATION:Online
CATEGORIES:Community
END:VEVENT
BEGIN:VEVENT
DTSTART;TZID=America/New_York:20220621T183000
DTEND;TZID=America/New_York:20220621T193000
DTSTAMP:20260419T170631
CREATED:20220524T183201Z
LAST-MODIFIED:20220524T183201Z
UID:4659-1655836200-1655839800@www.mmome.org
SUMMARY:Marine Life off the Coast of Maine
DESCRIPTION:Join us as we explore marine life in the Gulf of Maine. Learn about our work to monitor and positively affect changes in the ecosystem. \nLearn More.
URL:https://www.mmome.org/event/marine-life-off-the-coast-of-maine/
LOCATION:Skidompha Library\, 184 Main St\, Damariscotta\, ME\, United States
CATEGORIES:Community
END:VEVENT
BEGIN:VEVENT
DTSTART;TZID=America/New_York:20220625T100000
DTEND;TZID=America/New_York:20220625T110000
DTSTAMP:20260419T170631
CREATED:20220524T184346Z
LAST-MODIFIED:20220524T184346Z
UID:4662-1656151200-1656154800@www.mmome.org
SUMMARY:A Seal's Journey at the Auburn Public Library
DESCRIPTION:Join us as we take you through a seal’s journey from stranding to release\, and all of the obstacles in between. Starting with seal basics such as: whether it’s normal for them to be out of the water and why you might see a baby on its own\, and then dive into when and why seals need our help. You will learn what MMoME is\, what we do\, which animals we care for\, and how you can help. This program is good for all ages. No registration is required. \nLearn more at http://www.eventkeeper.com/mars/xpages/A/AUBURNME/EKPMONTH.cfm?zeeOrg=AUBURNME
URL:https://www.mmome.org/event/a-seals-journey-at-the-auburn-public-library/
LOCATION:Auburn Public Library\, 49 Spring St\, Auburn\, ME\, United States
CATEGORIES:Community
END:VEVENT
END:VCALENDAR