BEGIN:VCALENDAR
VERSION:2.0
PRODID:-//MMoME - ECPv6.15.18//NONSGML v1.0//EN
CALSCALE:GREGORIAN
METHOD:PUBLISH
X-WR-CALNAME:MMoME
X-ORIGINAL-URL:https://www.mmome.org
X-WR-CALDESC:Events for MMoME
REFRESH-INTERVAL;VALUE=DURATION:PT1H
X-Robots-Tag:noindex
X-PUBLISHED-TTL:PT1H
BEGIN:VTIMEZONE
TZID:America/New_York
BEGIN:DAYLIGHT
TZOFFSETFROM:-0500
TZOFFSETTO:-0400
TZNAME:EDT
DTSTART:20210314T070000
END:DAYLIGHT
BEGIN:STANDARD
TZOFFSETFROM:-0400
TZOFFSETTO:-0500
TZNAME:EST
DTSTART:20211107T060000
END:STANDARD
BEGIN:DAYLIGHT
TZOFFSETFROM:-0500
TZOFFSETTO:-0400
TZNAME:EDT
DTSTART:20220313T070000
END:DAYLIGHT
BEGIN:STANDARD
TZOFFSETFROM:-0400
TZOFFSETTO:-0500
TZNAME:EST
DTSTART:20221106T060000
END:STANDARD
BEGIN:DAYLIGHT
TZOFFSETFROM:-0500
TZOFFSETTO:-0400
TZNAME:EDT
DTSTART:20230312T070000
END:DAYLIGHT
BEGIN:STANDARD
TZOFFSETFROM:-0400
TZOFFSETTO:-0500
TZNAME:EST
DTSTART:20231105T060000
END:STANDARD
END:VTIMEZONE
BEGIN:VEVENT
DTSTART;TZID=America/New_York:20220806T100000
DTEND;TZID=America/New_York:20220806T110000
DTSTAMP:20260419T131435
CREATED:20220803T190908Z
LAST-MODIFIED:20220803T190908Z
UID:4814-1659780000-1659783600@www.mmome.org
SUMMARY:World of Whales with Skidompha Public Library
DESCRIPTION:Whales play a vital role in the ocean ecosystem that helps to support all life on Earth. Join us as we dive deep into the world of whales. We will start with a basic overview of what species have been spotted in the Gulf of Maine (the common and the uncommon). We will also investigate the adaptations that these large mammals have in order to survive in their ocean home. This program will also focus on cetacean stranding response here in Maine\, and highlight a few of our most fascinating cases. What challenges do these animals face\, and what challenges do we encounter when a report of a stranded cetacean comes through the hotline? \nOnline. \nLearn More.
URL:https://www.mmome.org/event/world-of-whales-at-skidompha-public-library/
LOCATION:Online
CATEGORIES:Community
END:VEVENT
BEGIN:VEVENT
DTSTART;TZID=America/New_York:20220808T173000
DTEND;TZID=America/New_York:20220808T183000
DTSTAMP:20260419T131435
CREATED:20220803T191509Z
LAST-MODIFIED:20220803T191509Z
UID:4816-1659979800-1659983400@www.mmome.org
SUMMARY:World of Whales with Lewiston Public Library
DESCRIPTION:Whales play a vital role in the ocean ecosystem that helps to support all life on Earth. Join us as we dive deep into the world of whales. We will start with a basic overview of what species have been spotted in the Gulf of Maine (the common and the uncommon). We will also investigate the adaptations that these large mammals have in order to survive in their ocean home. This program will also focus on cetacean stranding response here in Maine\, and highlight a few of our most fascinating cases. What challenges do these animals face\, and what challenges do we encounter when a report of a stranded cetacean comes through the hotline? \nThis program is geared to adults\, but is open to all. \nLearn More.
URL:https://www.mmome.org/event/world-of-whales-with-lewiston-public-library/
LOCATION:Lewiston Public Library\, 200 Lisbon St.\, Lewiston\, ME\, 04240\, United States
CATEGORIES:Community
END:VEVENT
BEGIN:VEVENT
DTSTART;TZID=America/New_York:20220817T150000
DTEND;TZID=America/New_York:20220817T160000
DTSTAMP:20260419T131435
CREATED:20220803T193705Z
LAST-MODIFIED:20220803T193705Z
UID:4822-1660748400-1660752000@www.mmome.org
SUMMARY:World of Whales at Rockport Public Library
DESCRIPTION:Whales play a vital role in the ocean ecosystem that helps to support all life on Earth. Join us as we dive deep into the world of whales. We will start with a basic overview of what species have been spotted in the Gulf of Maine (the common and the uncommon). We will also investigate the adaptations that these large mammals have in order to survive in their ocean home. This program will also focus on cetacean stranding response here in Maine\, and highlight a few of our most fascinating cases. What challenges do these animals face\, and what challenges do we encounter when a report of a stranded cetacean comes through the hotline? \nLearn More.
URL:https://www.mmome.org/event/world-of-whales-at-rockport-public-library/
LOCATION:Rockport Public Library\, 485 Commercial Street\, Rockport\, ME\, 04856\, United States
CATEGORIES:Community
END:VEVENT
BEGIN:VEVENT
DTSTART;TZID=America/New_York:20220828T110000
DTEND;TZID=America/New_York:20220828T160000
DTSTAMP:20260419T131435
CREATED:20220526T212157Z
LAST-MODIFIED:20220526T212157Z
UID:4671-1661684400-1661702400@www.mmome.org
SUMMARY:Pet Rock in the Park
DESCRIPTION:Drop by the MMoME table at Pet Rock in the Park! This event will feature live music and food trucks\, as well as a diverse list of vendors including pet products\, pet daycares\, kennels\, and animal rescues and shelters with pets looking for their forever homes! Money raised will benefit the Animal Cancer Foundation.
URL:https://www.mmome.org/event/pet-rock-in-the-park/
LOCATION:Deering Oaks Park\, Portland\, ME\, United States
CATEGORIES:Community
END:VEVENT
END:VCALENDAR