BEGIN:VCALENDAR
VERSION:2.0
PRODID:-//MMoME - ECPv6.15.18//NONSGML v1.0//EN
CALSCALE:GREGORIAN
METHOD:PUBLISH
X-ORIGINAL-URL:https://www.mmome.org
X-WR-CALDESC:Events for MMoME
REFRESH-INTERVAL;VALUE=DURATION:PT1H
X-Robots-Tag:noindex
X-PUBLISHED-TTL:PT1H
BEGIN:VTIMEZONE
TZID:America/New_York
BEGIN:DAYLIGHT
TZOFFSETFROM:-0500
TZOFFSETTO:-0400
TZNAME:EDT
DTSTART:20220313T070000
END:DAYLIGHT
BEGIN:STANDARD
TZOFFSETFROM:-0400
TZOFFSETTO:-0500
TZNAME:EST
DTSTART:20221106T060000
END:STANDARD
BEGIN:DAYLIGHT
TZOFFSETFROM:-0500
TZOFFSETTO:-0400
TZNAME:EDT
DTSTART:20230312T070000
END:DAYLIGHT
BEGIN:STANDARD
TZOFFSETFROM:-0400
TZOFFSETTO:-0500
TZNAME:EST
DTSTART:20231105T060000
END:STANDARD
BEGIN:DAYLIGHT
TZOFFSETFROM:-0500
TZOFFSETTO:-0400
TZNAME:EDT
DTSTART:20240310T070000
END:DAYLIGHT
BEGIN:STANDARD
TZOFFSETFROM:-0400
TZOFFSETTO:-0500
TZNAME:EST
DTSTART:20241103T060000
END:STANDARD
END:VTIMEZONE
BEGIN:VEVENT
DTSTART;TZID=America/New_York:20230515T110000
DTEND;TZID=America/New_York:20230515T230000
DTSTAMP:20260423T000810
CREATED:20230224T205758Z
LAST-MODIFIED:20230224T205758Z
UID:5053-1684148400-1684191600@www.mmome.org
SUMMARY:Gelato Fiasco "Scooping for Community"
DESCRIPTION:Gelato Fiasco partners with non-profits and donates 100% of sales from a non-profit’s supporters on the organization’s designated Scooping for Community Day. On May 15th\, head into Gelato Fiasco\, Brunswick and say you are there to support Marine Mammals of Maine!
URL:https://www.mmome.org/event/gelato-fiasco-scooping-for-community/
LOCATION:Gelato Fiasco\, 74 Maine St.\, Brunswick\, ME\, United States
CATEGORIES:Community
END:VEVENT
BEGIN:VEVENT
DTSTART;TZID=America/New_York:20230518T170000
DTEND;TZID=America/New_York:20230520T200000
DTSTAMP:20260423T000810
CREATED:20230428T110224Z
LAST-MODIFIED:20230428T110610Z
UID:5142-1684429200-1684612800@www.mmome.org
SUMMARY:#Slurpback with Maine Oyster Company
DESCRIPTION:Head to Maine Oyster Company anytime between 5/18-5/20 for MMoME’s #Slurpback event! Maine Oyster Company will be donating .50/cents to Marine Mammals of Maine for every oyster they shuck and sell. Order a dozen oysters? That’s $6 that goes directly to MMoME! Eat local and support MMoME in the process by participating in Maine Oyster Co’s MMoME #Slurpback! \n  \n \n 
URL:https://www.mmome.org/event/slurpback-with-maine-oyster-company/
LOCATION:Maine Oyster Company\, 38 Portland St\, Portland\, ME\, 04101\, United States
CATEGORIES:Community
END:VEVENT
END:VCALENDAR