BEGIN:VCALENDAR
VERSION:2.0
PRODID:-//MMoME - ECPv6.15.20//NONSGML v1.0//EN
CALSCALE:GREGORIAN
METHOD:PUBLISH
X-ORIGINAL-URL:https://www.mmome.org
X-WR-CALDESC:Events for MMoME
REFRESH-INTERVAL;VALUE=DURATION:PT1H
X-Robots-Tag:noindex
X-PUBLISHED-TTL:PT1H
BEGIN:VTIMEZONE
TZID:America/New_York
BEGIN:DAYLIGHT
TZOFFSETFROM:-0500
TZOFFSETTO:-0400
TZNAME:EDT
DTSTART:20220313T070000
END:DAYLIGHT
BEGIN:STANDARD
TZOFFSETFROM:-0400
TZOFFSETTO:-0500
TZNAME:EST
DTSTART:20221106T060000
END:STANDARD
BEGIN:DAYLIGHT
TZOFFSETFROM:-0500
TZOFFSETTO:-0400
TZNAME:EDT
DTSTART:20230312T070000
END:DAYLIGHT
BEGIN:STANDARD
TZOFFSETFROM:-0400
TZOFFSETTO:-0500
TZNAME:EST
DTSTART:20231105T060000
END:STANDARD
BEGIN:DAYLIGHT
TZOFFSETFROM:-0500
TZOFFSETTO:-0400
TZNAME:EDT
DTSTART:20240310T070000
END:DAYLIGHT
BEGIN:STANDARD
TZOFFSETFROM:-0400
TZOFFSETTO:-0500
TZNAME:EST
DTSTART:20241103T060000
END:STANDARD
END:VTIMEZONE
BEGIN:VEVENT
DTSTART;VALUE=DATE:20230601
DTEND;VALUE=DATE:20230701
DTSTAMP:20260425T120700
CREATED:20220824T195408Z
LAST-MODIFIED:20230614T175749Z
UID:4888-1685577600-1688169599@www.mmome.org
SUMMARY:Rivalries Drink Give Back
DESCRIPTION:Rivalries’ Sports Pub and Restaurant creates a “charitable cocktail” each month to support local nonprofits. For the month of June\, Rivalries will be serving a spicy orange margarita to support and promote Marine Mammals of Maine! $1 from each drink sold will be donated to Marine Mammals of Maine.  \n 
URL:https://www.mmome.org/event/rivalries-drink-give-back/
LOCATION:Rivalries\, 2 Hat Trick Drive\, Falmouth\, ME\, 04105
ATTACH;FMTTYPE=image/png:https://www.mmome.org/wp-content/uploads/2022/08/Screen-Shot-2023-06-14-at-1.55.14-PM.png
END:VEVENT
BEGIN:VEVENT
DTSTART;TZID=America/New_York:20230601T170000
DTEND;TZID=America/New_York:20230601T190000
DTSTAMP:20260425T120700
CREATED:20230224T210413Z
LAST-MODIFIED:20230530T143050Z
UID:5057-1685638800-1685646000@www.mmome.org
SUMMARY:Elsmere BBQ Night
DESCRIPTION:Do good while dining out! Enjoy a great meal and have a great time at Elsmere BBQ. Marine Mammals of Maine will receive 8% of all food sales\, including take-out from 4-9 pm on June 1\, 2023. MMoME representatives will be on hand from 5-7 pm to answer your questions and share more about the animals we respond to and care for. 
URL:https://www.mmome.org/event/elsmere-bbq-night/
LOCATION:Elsmere BBQ\, 448 Cottage Road\, South Portland\, ME\, United States
CATEGORIES:Community
END:VEVENT
BEGIN:VEVENT
DTSTART;TZID=America/New_York:20230615T180000
DTEND;TZID=America/New_York:20230615T190000
DTSTAMP:20260425T120700
CREATED:20230414T145702Z
LAST-MODIFIED:20230414T145702Z
UID:5124-1686852000-1686855600@www.mmome.org
SUMMARY:Turtle Tracks at the Waterboro Public Library
DESCRIPTION:The waters off the coast of Maine are rich in diversity of marine life. This includes sea turtles. Join MMoME to gain a basic understanding of sea turtle biology\, ecology\, conservation\, and the threats that sea turtles face in Maine and globally. We’ll discuss the concept of One Health in regards to the ocean\, and how sea turtles are connected to the work we do with marine mammals.
URL:https://www.mmome.org/event/turtle-tracks-at-the-waterboro-public-library/
LOCATION:Waterboro Public Library\, 187 Main St.\, East Waterboro\, ME\, 04030\, United States
CATEGORIES:Community
END:VEVENT
BEGIN:VEVENT
DTSTART;TZID=America/New_York:20230621T100000
DTEND;TZID=America/New_York:20230621T110000
DTSTAMP:20260425T120700
CREATED:20230414T150145Z
LAST-MODIFIED:20230414T150518Z
UID:5127-1687341600-1687345200@www.mmome.org
SUMMARY:Turtle Tracks at the Skidompha Library
DESCRIPTION:The waters off the coast of Maine are rich in diversity of marine life. This includes sea turtles. Join MMoME to gain a basic understanding of sea turtle biology\, ecology\, conservation\, and the threats that sea turtles face in Maine and globally. We’ll discuss the concept of One Health in regards to the ocean\, and how sea turtles are connected to the work we do with marine mammals. \nThis event is geared to participants of all ages.
URL:https://www.mmome.org/event/turtle-tracks-at-the-skidompha-library/
LOCATION:Skidompha Library\, 184 Main St\, Damariscotta\, ME\, United States
CATEGORIES:Community,Kids
END:VEVENT
BEGIN:VEVENT
DTSTART;TZID=America/New_York:20230627T183000
DTEND;TZID=America/New_York:20230627T193000
DTSTAMP:20260425T120700
CREATED:20230414T150349Z
LAST-MODIFIED:20230414T150349Z
UID:5129-1687890600-1687894200@www.mmome.org
SUMMARY:Turtle Tracks at the Dyer Library
DESCRIPTION:The waters off the coast of Maine are rich in diversity of marine life. This includes sea turtles. Join MMoME to gain a basic understanding of sea turtle biology\, ecology\, conservation\, and the threats that sea turtles face in Maine and globally. We’ll discuss the concept of One Health in regards to the ocean\, and how sea turtles are connected to the work we do with marine mammals.
URL:https://www.mmome.org/event/turtle-tracks-at-the-dyer-library/
LOCATION:Dyer Library\, 371 Main St.\, Saco\, 04072
CATEGORIES:Community
END:VEVENT
END:VCALENDAR